BEGIN:VCALENDAR
VERSION:2.0
PRODID:-//VFkB e.V. – Ihr Fotoklub vor Ort - ECPv6.15.20//NONSGML v1.0//EN
CALSCALE:GREGORIAN
METHOD:PUBLISH
X-WR-CALNAME:VFkB e.V. – Ihr Fotoklub vor Ort
X-ORIGINAL-URL:https://www.vfkb-lev.de
X-WR-CALDESC:Veranstaltungen für VFkB e.V. – Ihr Fotoklub vor Ort
REFRESH-INTERVAL;VALUE=DURATION:PT1H
X-Robots-Tag:noindex
X-PUBLISHED-TTL:PT1H
BEGIN:VTIMEZONE
TZID:Europe/Berlin
BEGIN:DAYLIGHT
TZOFFSETFROM:+0100
TZOFFSETTO:+0200
TZNAME:CEST
DTSTART:20230326T010000
END:DAYLIGHT
BEGIN:STANDARD
TZOFFSETFROM:+0200
TZOFFSETTO:+0100
TZNAME:CET
DTSTART:20231029T010000
END:STANDARD
BEGIN:DAYLIGHT
TZOFFSETFROM:+0100
TZOFFSETTO:+0200
TZNAME:CEST
DTSTART:20240331T010000
END:DAYLIGHT
BEGIN:STANDARD
TZOFFSETFROM:+0200
TZOFFSETTO:+0100
TZNAME:CET
DTSTART:20241027T010000
END:STANDARD
BEGIN:DAYLIGHT
TZOFFSETFROM:+0100
TZOFFSETTO:+0200
TZNAME:CEST
DTSTART:20250330T010000
END:DAYLIGHT
BEGIN:STANDARD
TZOFFSETFROM:+0200
TZOFFSETTO:+0100
TZNAME:CET
DTSTART:20251026T010000
END:STANDARD
END:VTIMEZONE
BEGIN:VEVENT
DTSTART;TZID=Europe/Berlin:20240603T193000
DTEND;TZID=Europe/Berlin:20240603T213000
DTSTAMP:20260421T025259
CREATED:20231117T121026Z
LAST-MODIFIED:20240604T074139Z
UID:6745-1717443000-1717450200@www.vfkb-lev.de
SUMMARY:Naturfotografie (online)
DESCRIPTION:Online-Treffen der Natur- und Landschaftsgruppe.
URL:https://www.vfkb-lev.de/termine/naturfotografie-online-8/
LOCATION:Online Videokonferenz
CATEGORIES:Gruppentreffen
END:VEVENT
BEGIN:VEVENT
DTSTART;TZID=Europe/Berlin:20240604T190000
DTEND;TZID=Europe/Berlin:20240604T210000
DTSTAMP:20260421T025259
CREATED:20231117T114523Z
LAST-MODIFIED:20231117T114523Z
UID:6673-1717527600-1717534800@www.vfkb-lev.de
SUMMARY:Projektfotografie
DESCRIPTION:Reguläres Treffen der Gruppe Projektfotografie in den Vereinsräumen. Fragen an Jürgen
URL:https://www.vfkb-lev.de/termine/projektfotografie-10/
LOCATION:Vereinsräume\, Düsseldorfer Str. 29\, Leverkusen\, 51379
CATEGORIES:Gruppentreffen
END:VEVENT
BEGIN:VEVENT
DTSTART;TZID=Europe/Berlin:20240606T150000
DTEND;TZID=Europe/Berlin:20240606T200000
DTSTAMP:20260421T025259
CREATED:20231117T120221Z
LAST-MODIFIED:20231117T120221Z
UID:6709-1717686000-1717704000@www.vfkb-lev.de
SUMMARY:Analoge S/W-Fotografie
DESCRIPTION:Reguläres Treffen der Analoggruppe zum Filmentwickeln und Vergrößern.
URL:https://www.vfkb-lev.de/termine/analoge-s-w-fotografie-19/
LOCATION:Vereinsräume\, Düsseldorfer Str. 29\, Leverkusen\, 51379
CATEGORIES:Gruppentreffen
END:VEVENT
BEGIN:VEVENT
DTSTART;TZID=Europe/Berlin:20240607T190000
DTEND;TZID=Europe/Berlin:20240607T210000
DTSTAMP:20260421T025259
CREATED:20240527T134757Z
LAST-MODIFIED:20240527T134757Z
UID:7856-1717786800-1717794000@www.vfkb-lev.de
SUMMARY:Fineartprint
DESCRIPTION:Gruppenabend
URL:https://www.vfkb-lev.de/termine/fineartprint-16/
LOCATION:Vereinsräume\, Düsseldorfer Str. 29\, Leverkusen\, 51379
CATEGORIES:Gruppentreffen
END:VEVENT
BEGIN:VEVENT
DTSTART;TZID=Europe/Berlin:20240608T150000
DTEND;TZID=Europe/Berlin:20240608T180000
DTSTAMP:20260421T025259
CREATED:20240502T035418Z
LAST-MODIFIED:20240502T035418Z
UID:7827-1717858800-1717869600@www.vfkb-lev.de
SUMMARY:"Fensterblicke" Fineart-Ausstellung
DESCRIPTION:Die Ausstellung ist geöffnet.
URL:https://www.vfkb-lev.de/termine/fensterblicke-fineart-ausstellung/
LOCATION:Vereinsräume\, Düsseldorfer Str. 29\, Leverkusen\, 51379
CATEGORIES:Ausstellung
END:VEVENT
BEGIN:VEVENT
DTSTART;TZID=Europe/Berlin:20240610T190000
DTEND;TZID=Europe/Berlin:20240610T210000
DTSTAMP:20260421T025259
CREATED:20240604T074335Z
LAST-MODIFIED:20240604T074335Z
UID:7860-1718046000-1718053200@www.vfkb-lev.de
SUMMARY:Naturfotografie
DESCRIPTION:Reguläres Treffen der Natur- und Landschaftsgruppe in den Vereinsräumen.
URL:https://www.vfkb-lev.de/termine/naturfotografie-17/
LOCATION:Vereinsräume\, Düsseldorfer Str. 29\, Leverkusen\, 51379
CATEGORIES:Gruppentreffen
END:VEVENT
BEGIN:VEVENT
DTSTART;TZID=Europe/Berlin:20240611T190000
DTEND;TZID=Europe/Berlin:20240611T210000
DTSTAMP:20260421T025259
CREATED:20231117T112518Z
LAST-MODIFIED:20231117T113220Z
UID:6647-1718132400-1718139600@www.vfkb-lev.de
SUMMARY:Bildbesprechung und Klub-News
DESCRIPTION:Reguläres Treffen der Bildbesprechungsgruppe.
URL:https://www.vfkb-lev.de/termine/bildbesprechung-und-klub-news-10/
LOCATION:Vereinsräume\, Düsseldorfer Str. 29\, Leverkusen\, 51379
CATEGORIES:Gruppentreffen
END:VEVENT
BEGIN:VEVENT
DTSTART;TZID=Europe/Berlin:20240617T190000
DTEND;TZID=Europe/Berlin:20240617T210000
DTSTAMP:20260421T025259
CREATED:20231117T121313Z
LAST-MODIFIED:20240604T074427Z
UID:6771-1718650800-1718658000@www.vfkb-lev.de
SUMMARY:Naturfotografie
DESCRIPTION:Reguläres Treffen der Natur- und Landschaftsgruppe in den Vereinsräumen.
URL:https://www.vfkb-lev.de/termine/naturfotografie-10/
LOCATION:Vereinsräume\, Düsseldorfer Str. 29\, Leverkusen\, 51379
CATEGORIES:Gruppentreffen
END:VEVENT
BEGIN:VEVENT
DTSTART;TZID=Europe/Berlin:20240619T190000
DTEND;TZID=Europe/Berlin:20240619T210000
DTSTAMP:20260421T025259
CREATED:20231124T110322Z
LAST-MODIFIED:20231204T103745Z
UID:6824-1718823600-1718830800@www.vfkb-lev.de
SUMMARY:Digitale Dunkelkammer
DESCRIPTION:Reguläres Treffen der Digitalen Dunkelkammergruppe.Thema des Abends findet sich im Jahresprogramm. Fragen und weitere Vorschläge an Uli.\n \nIn den ersten 10 Minuten eines jeden Treffens können Teilnehmer\, unabhängig vom Thema des Abends\, konkrete Problemfälle bei der Bildbearbeitung oder Kamerahandhabung vorstellen. Bitte Kamera oder Bilddateien mitbringen.
URL:https://www.vfkb-lev.de/termine/digitale-dunkelkammer-11/
LOCATION:Vereinsräume\, Düsseldorfer Str. 29\, Leverkusen\, 51379
CATEGORIES:Gruppentreffen
END:VEVENT
BEGIN:VEVENT
DTSTART;TZID=Europe/Berlin:20240620T150000
DTEND;TZID=Europe/Berlin:20240620T200000
DTSTAMP:20260421T025259
CREATED:20231117T120231Z
LAST-MODIFIED:20231117T120231Z
UID:6711-1718895600-1718913600@www.vfkb-lev.de
SUMMARY:Analoge S/W-Fotografie
DESCRIPTION:Reguläres Treffen der Analoggruppe zum Filmentwickeln und Vergrößern.
URL:https://www.vfkb-lev.de/termine/analoge-s-w-fotografie-20/
LOCATION:Vereinsräume\, Düsseldorfer Str. 29\, Leverkusen\, 51379
CATEGORIES:Gruppentreffen
END:VEVENT
BEGIN:VEVENT
DTSTART;TZID=Europe/Berlin:20240626T190000
DTEND;TZID=Europe/Berlin:20240626T210000
DTSTAMP:20260421T025259
CREATED:20231117T110848Z
LAST-MODIFIED:20231117T110848Z
UID:6582-1719428400-1719435600@www.vfkb-lev.de
SUMMARY:Studiofotografie
DESCRIPTION:Reguläres Treffen der Studiogruppe\, Ausstellunghängung
URL:https://www.vfkb-lev.de/termine/studiofotografie-10/
LOCATION:Vereinsräume\, Düsseldorfer Str. 29\, Leverkusen\, 51379
CATEGORIES:Gruppentreffen
END:VEVENT
BEGIN:VEVENT
DTSTART;TZID=Europe/Berlin:20240628T190000
DTEND;TZID=Europe/Berlin:20240628T210000
DTSTAMP:20260421T025259
CREATED:20231117T111505Z
LAST-MODIFIED:20231117T111505Z
UID:6604-1719601200-1719608400@www.vfkb-lev.de
SUMMARY:Fineartprint
DESCRIPTION:Reguläres Treffen der Fineartprintgruppe (in Klubräumen). Es gelten die tagesaktuellen Coronaschutzregeln.
URL:https://www.vfkb-lev.de/termine/fineartprint-8/
LOCATION:Vereinsräume\, Düsseldorfer Str. 29\, Leverkusen\, 51379
CATEGORIES:Gruppentreffen
END:VEVENT
END:VCALENDAR