BEGIN:VCALENDAR
VERSION:2.0
PRODID:-//VFkB e.V. – Ihr Fotoklub vor Ort - ECPv6.15.20//NONSGML v1.0//EN
CALSCALE:GREGORIAN
METHOD:PUBLISH
X-ORIGINAL-URL:https://www.vfkb-lev.de
X-WR-CALDESC:Veranstaltungen für VFkB e.V. – Ihr Fotoklub vor Ort
REFRESH-INTERVAL;VALUE=DURATION:PT1H
X-Robots-Tag:noindex
X-PUBLISHED-TTL:PT1H
BEGIN:VTIMEZONE
TZID:Europe/Berlin
BEGIN:DAYLIGHT
TZOFFSETFROM:+0100
TZOFFSETTO:+0200
TZNAME:CEST
DTSTART:20230326T010000
END:DAYLIGHT
BEGIN:STANDARD
TZOFFSETFROM:+0200
TZOFFSETTO:+0100
TZNAME:CET
DTSTART:20231029T010000
END:STANDARD
BEGIN:DAYLIGHT
TZOFFSETFROM:+0100
TZOFFSETTO:+0200
TZNAME:CEST
DTSTART:20240331T010000
END:DAYLIGHT
BEGIN:STANDARD
TZOFFSETFROM:+0200
TZOFFSETTO:+0100
TZNAME:CET
DTSTART:20241027T010000
END:STANDARD
BEGIN:DAYLIGHT
TZOFFSETFROM:+0100
TZOFFSETTO:+0200
TZNAME:CEST
DTSTART:20250330T010000
END:DAYLIGHT
BEGIN:STANDARD
TZOFFSETFROM:+0200
TZOFFSETTO:+0100
TZNAME:CET
DTSTART:20251026T010000
END:STANDARD
END:VTIMEZONE
BEGIN:VEVENT
DTSTART;TZID=Europe/Berlin:20240821T190000
DTEND;TZID=Europe/Berlin:20240821T210000
DTSTAMP:20260422T095056
CREATED:20231124T110351Z
LAST-MODIFIED:20231204T103853Z
UID:6828-1724266800-1724274000@www.vfkb-lev.de
SUMMARY:Digitale Dunkelkammer
DESCRIPTION:Reguläres Treffen der Digitalen Dunkelkammergruppe.Thema des Abends findet sich im Jahresprogramm. Fragen und weitere Vorschläge an Uli.\n \nIn den ersten 10 Minuten eines jeden Treffens können Teilnehmer\, unabhängig vom Thema des Abends\, konkrete Problemfälle bei der Bildbearbeitung oder Kamerahandhabung vorstellen. Bitte Kamera oder Bilddateien mitbringen.
URL:https://www.vfkb-lev.de/termine/digitale-dunkelkammer-13/
LOCATION:Vereinsräume\, Düsseldorfer Str. 29\, Leverkusen\, 51379
CATEGORIES:Gruppentreffen
END:VEVENT
END:VCALENDAR