BEGIN:VCALENDAR
VERSION:2.0
PRODID:-//VFkB e.V. – Ihr Fotoklub vor Ort - ECPv6.15.20//NONSGML v1.0//EN
CALSCALE:GREGORIAN
METHOD:PUBLISH
X-WR-CALNAME:VFkB e.V. – Ihr Fotoklub vor Ort
X-ORIGINAL-URL:https://www.vfkb-lev.de
X-WR-CALDESC:Veranstaltungen für VFkB e.V. – Ihr Fotoklub vor Ort
REFRESH-INTERVAL;VALUE=DURATION:PT1H
X-Robots-Tag:noindex
X-PUBLISHED-TTL:PT1H
BEGIN:VTIMEZONE
TZID:Europe/Berlin
BEGIN:DAYLIGHT
TZOFFSETFROM:+0100
TZOFFSETTO:+0200
TZNAME:CEST
DTSTART:20230326T010000
END:DAYLIGHT
BEGIN:STANDARD
TZOFFSETFROM:+0200
TZOFFSETTO:+0100
TZNAME:CET
DTSTART:20231029T010000
END:STANDARD
BEGIN:DAYLIGHT
TZOFFSETFROM:+0100
TZOFFSETTO:+0200
TZNAME:CEST
DTSTART:20240331T010000
END:DAYLIGHT
BEGIN:STANDARD
TZOFFSETFROM:+0200
TZOFFSETTO:+0100
TZNAME:CET
DTSTART:20241027T010000
END:STANDARD
BEGIN:DAYLIGHT
TZOFFSETFROM:+0100
TZOFFSETTO:+0200
TZNAME:CEST
DTSTART:20250330T010000
END:DAYLIGHT
BEGIN:STANDARD
TZOFFSETFROM:+0200
TZOFFSETTO:+0100
TZNAME:CET
DTSTART:20251026T010000
END:STANDARD
END:VTIMEZONE
BEGIN:VEVENT
DTSTART;TZID=Europe/Berlin:20240815T150000
DTEND;TZID=Europe/Berlin:20240815T200000
DTSTAMP:20260422T002352
CREATED:20231117T120314Z
LAST-MODIFIED:20231117T120314Z
UID:6719-1723734000-1723752000@www.vfkb-lev.de
SUMMARY:Analoge S/W-Fotografie
DESCRIPTION:Reguläres Treffen der Analoggruppe zum Filmentwickeln und Vergrößern.
URL:https://www.vfkb-lev.de/termine/analoge-s-w-fotografie-24/
LOCATION:Vereinsräume\, Düsseldorfer Str. 29\, Leverkusen\, 51379
CATEGORIES:Gruppentreffen
END:VEVENT
END:VCALENDAR